BEGIN:VCALENDAR
VERSION:2.0
PRODID:-//Wilmington Grammar School for Boys - ECPv6.15.20//NONSGML v1.0//EN
CALSCALE:GREGORIAN
METHOD:PUBLISH
X-WR-CALNAME:Wilmington Grammar School for Boys
X-ORIGINAL-URL:https://wgsb.co.uk
X-WR-CALDESC:Events for Wilmington Grammar School for Boys
REFRESH-INTERVAL;VALUE=DURATION:PT1H
X-Robots-Tag:noindex
X-PUBLISHED-TTL:PT1H
BEGIN:VTIMEZONE
TZID:Europe/London
BEGIN:DAYLIGHT
TZOFFSETFROM:+0000
TZOFFSETTO:+0100
TZNAME:BST
DTSTART:20240331T010000
END:DAYLIGHT
BEGIN:STANDARD
TZOFFSETFROM:+0100
TZOFFSETTO:+0000
TZNAME:GMT
DTSTART:20241027T010000
END:STANDARD
BEGIN:DAYLIGHT
TZOFFSETFROM:+0000
TZOFFSETTO:+0100
TZNAME:BST
DTSTART:20250330T010000
END:DAYLIGHT
BEGIN:STANDARD
TZOFFSETFROM:+0100
TZOFFSETTO:+0000
TZNAME:GMT
DTSTART:20251026T010000
END:STANDARD
BEGIN:DAYLIGHT
TZOFFSETFROM:+0000
TZOFFSETTO:+0100
TZNAME:BST
DTSTART:20260329T010000
END:DAYLIGHT
BEGIN:STANDARD
TZOFFSETFROM:+0100
TZOFFSETTO:+0000
TZNAME:GMT
DTSTART:20261025T010000
END:STANDARD
BEGIN:DAYLIGHT
TZOFFSETFROM:+0000
TZOFFSETTO:+0100
TZNAME:BST
DTSTART:20270328T010000
END:DAYLIGHT
BEGIN:STANDARD
TZOFFSETFROM:+0100
TZOFFSETTO:+0000
TZNAME:GMT
DTSTART:20271031T010000
END:STANDARD
END:VTIMEZONE
BEGIN:VEVENT
DTSTART;TZID=Europe/London:20250403T080000
DTEND;TZID=Europe/London:20250410T170000
DTSTAMP:20260421T111732
CREATED:20250225T113850Z
LAST-MODIFIED:20250225T113850Z
UID:2715-1743667200-1744304400@wgsb.co.uk
SUMMARY:Canada Ski Trip
DESCRIPTION:
URL:https://wgsb.co.uk/event/canada-ski-trip/
CATEGORIES:Trips
END:VEVENT
BEGIN:VEVENT
DTSTART;TZID=Europe/London:20250403T100000
DTEND;TZID=Europe/London:20250403T230000
DTSTAMP:20260421T111732
CREATED:20250225T113739Z
LAST-MODIFIED:20250225T113739Z
UID:2713-1743674400-1743721200@wgsb.co.uk
SUMMARY:PTA Doughnut & Samosa Sale
DESCRIPTION:
URL:https://wgsb.co.uk/event/pta-doughnut-samosa-sale/
CATEGORIES:PTA
END:VEVENT
BEGIN:VEVENT
DTSTART;VALUE=DATE:20250901
DTEND;VALUE=DATE:20250902
DTSTAMP:20260421T111732
CREATED:20250731T091546Z
LAST-MODIFIED:20250731T091546Z
UID:3263-1756684800-1756771199@wgsb.co.uk
SUMMARY:Inset Day
DESCRIPTION:
URL:https://wgsb.co.uk/event/inset-day-2/
CATEGORIES:Inset Days
END:VEVENT
BEGIN:VEVENT
DTSTART;TZID=Europe/London:20250902T084500
DTEND;TZID=Europe/London:20250902T153000
DTSTAMP:20260421T111732
CREATED:20250731T091301Z
LAST-MODIFIED:20250731T091301Z
UID:3259-1756802700-1756827000@wgsb.co.uk
SUMMARY:Y7 and Y12 only - Start of Term 1
DESCRIPTION:
URL:https://wgsb.co.uk/event/y7-and-y12-only-start-of-term-1/
CATEGORIES:Term Dates
END:VEVENT
BEGIN:VEVENT
DTSTART;TZID=Europe/London:20250903T084500
DTEND;TZID=Europe/London:20250903T153000
DTSTAMP:20260421T111732
CREATED:20250731T091506Z
LAST-MODIFIED:20250731T091506Z
UID:3261-1756889100-1756913400@wgsb.co.uk
SUMMARY:All Year Groups - Start of Term 1
DESCRIPTION:
URL:https://wgsb.co.uk/event/all-year-groups-start-of-term-1/
CATEGORIES:Term Dates
END:VEVENT
BEGIN:VEVENT
DTSTART;TZID=Europe/London:20250904T170000
DTEND;TZID=Europe/London:20250904T180000
DTSTAMP:20260421T111732
CREATED:20250731T091107Z
LAST-MODIFIED:20250731T091107Z
UID:3257-1757005200-1757008800@wgsb.co.uk
SUMMARY:Year 11 and Beyond Parent Meeting
DESCRIPTION:
URL:https://wgsb.co.uk/event/year-11-and-beyond-parent-meeting/
CATEGORIES:Parents' Evenings
END:VEVENT
BEGIN:VEVENT
DTSTART;TZID=Europe/London:20251020T080000
DTEND;TZID=Europe/London:20251024T170000
DTSTAMP:20260421T111732
CREATED:20251017T123850Z
LAST-MODIFIED:20251017T123850Z
UID:3590-1760947200-1761325200@wgsb.co.uk
SUMMARY:Autumn Half Term
DESCRIPTION:
URL:https://wgsb.co.uk/event/autumn-half-term/
CATEGORIES:Term Dates
END:VEVENT
BEGIN:VEVENT
DTSTART;TZID=Europe/London:20251027T080000
DTEND;TZID=Europe/London:20251029T170000
DTSTAMP:20260421T111732
CREATED:20251017T123546Z
LAST-MODIFIED:20251017T123546Z
UID:3586-1761552000-1761757200@wgsb.co.uk
SUMMARY:Inset Day (Students do not attend school)
DESCRIPTION:
URL:https://wgsb.co.uk/event/inset-day-students-do-not-attend-school/
CATEGORIES:Inset Days
END:VEVENT
BEGIN:VEVENT
DTSTART;VALUE=DATE:20251030
DTEND;VALUE=DATE:20251031
DTSTAMP:20260421T111732
CREATED:20251017T123652Z
LAST-MODIFIED:20251017T123652Z
UID:3588-1761782400-1761868799@wgsb.co.uk
SUMMARY:Term 2 starts for Students
DESCRIPTION:
URL:https://wgsb.co.uk/event/term-2-starts-for-students/
CATEGORIES:Term Dates
END:VEVENT
BEGIN:VEVENT
DTSTART;TZID=Europe/London:20251030T080000
DTEND;TZID=Europe/London:20251107T170000
DTSTAMP:20260421T111732
CREATED:20251017T124056Z
LAST-MODIFIED:20251017T124056Z
UID:3592-1761811200-1762534800@wgsb.co.uk
SUMMARY:Y11 Mock Exams
DESCRIPTION:
URL:https://wgsb.co.uk/event/y11-mock-exams/
CATEGORIES:Examinations
END:VEVENT
BEGIN:VEVENT
DTSTART;TZID=Europe/London:20251111T160000
DTEND;TZID=Europe/London:20251111T193000
DTSTAMP:20260421T111732
CREATED:20251017T124433Z
LAST-MODIFIED:20251017T124433Z
UID:3594-1762876800-1762889400@wgsb.co.uk
SUMMARY:Y8 Parents Evening
DESCRIPTION:
URL:https://wgsb.co.uk/event/y8-parents-evening-2/
LOCATION:WGSB
CATEGORIES:Parents' Evenings
END:VEVENT
BEGIN:VEVENT
DTSTART;VALUE=DATE:20251121
DTEND;VALUE=DATE:20251122
DTSTAMP:20260421T111732
CREATED:20251017T124928Z
LAST-MODIFIED:20251114T095622Z
UID:3598-1763683200-1763769599@wgsb.co.uk
SUMMARY:Non Uniform Day (Donations for PTA Fair & Dartford Foodbank)
DESCRIPTION:
URL:https://wgsb.co.uk/event/donations-for-pta-fair-dartford-foodbank/
CATEGORIES:PTA
END:VEVENT
BEGIN:VEVENT
DTSTART;TZID=Europe/London:20251127T160000
DTEND;TZID=Europe/London:20251127T190000
DTSTAMP:20260421T111732
CREATED:20251017T124824Z
LAST-MODIFIED:20251017T124824Z
UID:3596-1764259200-1764270000@wgsb.co.uk
SUMMARY:Y13 Parents Evening
DESCRIPTION:
URL:https://wgsb.co.uk/event/y13-parents-evening-2/
LOCATION:WGSB
CATEGORIES:Parents' Evenings
END:VEVENT
BEGIN:VEVENT
DTSTART;TZID=Europe/London:20251128T160000
DTEND;TZID=Europe/London:20251128T180000
DTSTAMP:20260421T111732
CREATED:20251017T125025Z
LAST-MODIFIED:20251017T125025Z
UID:3600-1764345600-1764352800@wgsb.co.uk
SUMMARY:PTA Christmas Tree Collection
DESCRIPTION:
URL:https://wgsb.co.uk/event/pta-christmas-tree-collection/
CATEGORIES:PTA
END:VEVENT
BEGIN:VEVENT
DTSTART;TZID=Europe/London:20251129T110000
DTEND;TZID=Europe/London:20251129T140000
DTSTAMP:20260421T111732
CREATED:20251017T125124Z
LAST-MODIFIED:20251017T125124Z
UID:3602-1764414000-1764424800@wgsb.co.uk
SUMMARY:PTA Christmas Fair & Craft Market
DESCRIPTION:
URL:https://wgsb.co.uk/event/pta-christmas-fair-craft-market-2/
CATEGORIES:PTA
END:VEVENT
BEGIN:VEVENT
DTSTART;TZID=Europe/London:20251203T080000
DTEND;TZID=Europe/London:20251204T170000
DTSTAMP:20260421T111732
CREATED:20251017T125258Z
LAST-MODIFIED:20251114T095803Z
UID:3604-1764748800-1764867600@wgsb.co.uk
SUMMARY:Year 8 French Trip to Lille & Saint Omer
DESCRIPTION:
URL:https://wgsb.co.uk/event/year-8-french-trip-to-lille-saint-omer/
CATEGORIES:Trips
END:VEVENT
BEGIN:VEVENT
DTSTART;TZID=Europe/London:20251203T170000
DTEND;TZID=Europe/London:20251203T200000
DTSTAMP:20260421T111732
CREATED:20251017T125403Z
LAST-MODIFIED:20251114T100038Z
UID:3606-1764781200-1764792000@wgsb.co.uk
SUMMARY:WG6 Open Evening
DESCRIPTION:
URL:https://wgsb.co.uk/event/wg6-open-evening-2/
LOCATION:Wilmington Grammar for Girls
CATEGORIES:School Events
END:VEVENT
BEGIN:VEVENT
DTSTART;TZID=Europe/London:20251204T180000
DTEND;TZID=Europe/London:20251204T193000
DTSTAMP:20260421T111732
CREATED:20251017T125511Z
LAST-MODIFIED:20251017T125511Z
UID:3609-1764871200-1764876600@wgsb.co.uk
SUMMARY:PTA Wreath Making
DESCRIPTION:
URL:https://wgsb.co.uk/event/pta-wreath-making-2/
CATEGORIES:PTA
END:VEVENT
BEGIN:VEVENT
DTSTART;TZID=Europe/London:20251209T120000
DTEND;TZID=Europe/London:20251209T130000
DTSTAMP:20260421T111732
CREATED:20251017T125718Z
LAST-MODIFIED:20251017T125718Z
UID:3611-1765281600-1765285200@wgsb.co.uk
SUMMARY:KS3 Christmas Dinner & Jumper Day
DESCRIPTION:
URL:https://wgsb.co.uk/event/ks3-christmas-dinner-jumper-day-2/
CATEGORIES:School Events
END:VEVENT
BEGIN:VEVENT
DTSTART;TZID=Europe/London:20251209T160000
DTEND;TZID=Europe/London:20251209T193000
DTSTAMP:20260421T111732
CREATED:20251017T125923Z
LAST-MODIFIED:20251017T125923Z
UID:3613-1765296000-1765308600@wgsb.co.uk
SUMMARY:Y10 Form Tutor Parents Evening
DESCRIPTION:
URL:https://wgsb.co.uk/event/y10-form-tutor-parents-evening/
CATEGORIES:Parents' Evenings
END:VEVENT
BEGIN:VEVENT
DTSTART;TZID=Europe/London:20251210T093000
DTEND;TZID=Europe/London:20251210T120000
DTSTAMP:20260421T111732
CREATED:20251017T130508Z
LAST-MODIFIED:20251017T130508Z
UID:3619-1765359000-1765368000@wgsb.co.uk
SUMMARY:Y7 Christmas Church Service
DESCRIPTION:
URL:https://wgsb.co.uk/event/y7-christmas-church-service/
CATEGORIES:School Events
END:VEVENT
BEGIN:VEVENT
DTSTART;TZID=Europe/London:20251210T120000
DTEND;TZID=Europe/London:20251210T130000
DTSTAMP:20260421T111732
CREATED:20251017T130127Z
LAST-MODIFIED:20251017T130127Z
UID:3615-1765368000-1765371600@wgsb.co.uk
SUMMARY:KS4/5 Christmas Dinner & Jumper Day
DESCRIPTION:
URL:https://wgsb.co.uk/event/ks4-5-christmas-dinner-jumper-day-2/
CATEGORIES:School Events
END:VEVENT
BEGIN:VEVENT
DTSTART;VALUE=DATE:20251212
DTEND;VALUE=DATE:20251213
DTSTAMP:20260421T111732
CREATED:20251017T130717Z
LAST-MODIFIED:20251017T130717Z
UID:3621-1765497600-1765583999@wgsb.co.uk
SUMMARY:Y7-11 Flu Vaccinations
DESCRIPTION:
URL:https://wgsb.co.uk/event/y7-11-flu-vaccinations/
CATEGORIES:School Events
END:VEVENT
BEGIN:VEVENT
DTSTART;VALUE=DATE:20251213
DTEND;VALUE=DATE:20251222
DTSTAMP:20260421T111732
CREATED:20251017T130806Z
LAST-MODIFIED:20251017T130806Z
UID:3623-1765584000-1766361599@wgsb.co.uk
SUMMARY:St Lucia Cricket Tour
DESCRIPTION:
URL:https://wgsb.co.uk/event/st-lucia-cricket-tour/
CATEGORIES:Trips
END:VEVENT
BEGIN:VEVENT
DTSTART;TZID=Europe/London:20260205T160000
DTEND;TZID=Europe/London:20260205T193000
DTSTAMP:20260421T111732
CREATED:20260204T114159Z
LAST-MODIFIED:20260204T114159Z
UID:3965-1770307200-1770319800@wgsb.co.uk
SUMMARY:Y9 Parents Evening
DESCRIPTION:
URL:https://wgsb.co.uk/event/y9-parents-evening/
CATEGORIES:Parents' Evenings
END:VEVENT
BEGIN:VEVENT
DTSTART;VALUE=DATE:20260211
DTEND;VALUE=DATE:20260212
DTSTAMP:20260421T111732
CREATED:20260204T114456Z
LAST-MODIFIED:20260204T114456Z
UID:3969-1770768000-1770854399@wgsb.co.uk
SUMMARY:Deadline for submission of Y9 Option Choices
DESCRIPTION:
URL:https://wgsb.co.uk/event/deadline-for-submission-of-y9-option-choices/
CATEGORIES:School Events
END:VEVENT
BEGIN:VEVENT
DTSTART;TZID=Europe/London:20260211T173000
DTEND;TZID=Europe/London:20260211T190000
DTSTAMP:20260421T111732
CREATED:20260204T114320Z
LAST-MODIFIED:20260204T114320Z
UID:3967-1770831000-1770836400@wgsb.co.uk
SUMMARY:Ski Trip Parental Briefing
DESCRIPTION:
URL:https://wgsb.co.uk/event/ski-trip-parental-briefing/
CATEGORIES:Trips
END:VEVENT
BEGIN:VEVENT
DTSTART;VALUE=DATE:20260213
DTEND;VALUE=DATE:20260214
DTSTAMP:20260421T111732
CREATED:20260204T114555Z
LAST-MODIFIED:20260204T114555Z
UID:3971-1770940800-1771027199@wgsb.co.uk
SUMMARY:Doughnut & Samosa Sale
DESCRIPTION:
URL:https://wgsb.co.uk/event/doughnut-samosa-sale/
CATEGORIES:PTA
END:VEVENT
BEGIN:VEVENT
DTSTART;VALUE=DATE:20260214
DTEND;VALUE=DATE:20260220
DTSTAMP:20260421T111732
CREATED:20260204T114634Z
LAST-MODIFIED:20260204T114634Z
UID:3973-1771027200-1771545599@wgsb.co.uk
SUMMARY:Y13 New York Trip
DESCRIPTION:
URL:https://wgsb.co.uk/event/y13-new-york-trip/
CATEGORIES:Trips
END:VEVENT
BEGIN:VEVENT
DTSTART;VALUE=DATE:20260223
DTEND;VALUE=DATE:20260224
DTSTAMP:20260421T111732
CREATED:20260204T114813Z
LAST-MODIFIED:20260204T114813Z
UID:3975-1771804800-1771891199@wgsb.co.uk
SUMMARY:Inset Day - No students to attend
DESCRIPTION:
URL:https://wgsb.co.uk/event/inset-day-no-students-to-attend/
CATEGORIES:Inset Days
END:VEVENT
END:VCALENDAR